BEGIN:VCALENDAR
VERSION:2.0
PRODID:-//Sportmittelschule Lambach - ECPv6.15.17.1//NONSGML v1.0//EN
CALSCALE:GREGORIAN
METHOD:PUBLISH
X-ORIGINAL-URL:http://www.sportmittelschule-lambach.at
X-WR-CALDESC:Veranstaltungen für Sportmittelschule Lambach
REFRESH-INTERVAL;VALUE=DURATION:PT1H
X-Robots-Tag:noindex
X-PUBLISHED-TTL:PT1H
BEGIN:VTIMEZONE
TZID:Europe/Vienna
BEGIN:DAYLIGHT
TZOFFSETFROM:+0100
TZOFFSETTO:+0200
TZNAME:CEST
DTSTART:20240331T010000
END:DAYLIGHT
BEGIN:STANDARD
TZOFFSETFROM:+0200
TZOFFSETTO:+0100
TZNAME:CET
DTSTART:20241027T010000
END:STANDARD
BEGIN:DAYLIGHT
TZOFFSETFROM:+0100
TZOFFSETTO:+0200
TZNAME:CEST
DTSTART:20250330T010000
END:DAYLIGHT
BEGIN:STANDARD
TZOFFSETFROM:+0200
TZOFFSETTO:+0100
TZNAME:CET
DTSTART:20251026T010000
END:STANDARD
BEGIN:DAYLIGHT
TZOFFSETFROM:+0100
TZOFFSETTO:+0200
TZNAME:CEST
DTSTART:20260329T010000
END:DAYLIGHT
BEGIN:STANDARD
TZOFFSETFROM:+0200
TZOFFSETTO:+0100
TZNAME:CET
DTSTART:20261025T010000
END:STANDARD
END:VTIMEZONE
BEGIN:VEVENT
DTSTART;TZID=Europe/Vienna:20250616T073000
DTEND;TZID=Europe/Vienna:20250618T160000
DTSTAMP:20260423T171633
CREATED:20250205T180652Z
LAST-MODIFIED:20250205T180652Z
UID:2402-1750059000-1750262400@www.sportmittelschule-lambach.at
SUMMARY:Sportwoche_Altenmarkt 2. und 3.Klassen
DESCRIPTION:
URL:http://www.sportmittelschule-lambach.at/event/sportwoche_altenmarkt-2-und-3-klassen/
END:VEVENT
BEGIN:VEVENT
DTSTART;TZID=Europe/Vienna:20250617T183000
DTEND;TZID=Europe/Vienna:20250617T203000
DTSTAMP:20260423T171633
CREATED:20250604T101320Z
LAST-MODIFIED:20250604T101320Z
UID:2662-1750185000-1750192200@www.sportmittelschule-lambach.at
SUMMARY:Elternabend zukünftiger 1. Klassen
DESCRIPTION:
URL:http://www.sportmittelschule-lambach.at/event/elternabend-zukuenftiger-1-klassen/
LOCATION:Kulturzentrum Rossstall\, Hafferlstraße 1a\, Lambach\, 4650
END:VEVENT
END:VCALENDAR